BEGIN:VCALENDAR
VERSION:2.0
PRODID:-//Ortspartei SVP Ins //NONSGML Events //EN
CALSCALE:GREGORIAN
X-WR-CALNAME:Ortspartei SVP Ins
BEGIN:VEVENT
CREATED:20200924T075459Z
UID:568
DTEND:20210312T200000
DTSTART:20210312T193000
DTSTAMP:20260421T045832Z
LOCATION:
DESCRIPTION:
SUMMARY:Hauptversammlung SVP Ins
ORGANIZER:
URL;VALUE=URI:https://www.svp-ins.ch/aktuell/termine/hauptversammlung-svp-ins-2/
TRANSP:OPAQUE
END:VEVENT
END:VCALENDAR
